BEGIN:VCALENDAR
VERSION:2.0
PRODID:-//Oficina de promoción turística de Castilla-La Mancha en Madrid - ECPv6.13.2.1//NONSGML v1.0//EN
CALSCALE:GREGORIAN
METHOD:PUBLISH
X-WR-CALNAME:Oficina de promoción turística de Castilla-La Mancha en Madrid
X-ORIGINAL-URL:https://www.oficinadepromocionclm.com
X-WR-CALDESC:Eventos para Oficina de promoción turística de Castilla-La Mancha en Madrid
REFRESH-INTERVAL;VALUE=DURATION:PT1H
X-Robots-Tag:noindex
X-PUBLISHED-TTL:PT1H
BEGIN:VTIMEZONE
TZID:Europe/Madrid
BEGIN:DAYLIGHT
TZOFFSETFROM:+0100
TZOFFSETTO:+0200
TZNAME:CEST
DTSTART:20210328T010000
END:DAYLIGHT
BEGIN:STANDARD
TZOFFSETFROM:+0200
TZOFFSETTO:+0100
TZNAME:CET
DTSTART:20211031T010000
END:STANDARD
END:VTIMEZONE
BEGIN:VEVENT
DTSTART;TZID=Europe/Madrid:20210703T110000
DTEND;TZID=Europe/Madrid:20210703T190000
DTSTAMP:20260426T053044
CREATED:20210622T153507Z
LAST-MODIFIED:20210622T153549Z
UID:17415-1625310000-1625338800@www.oficinadepromocionclm.com
SUMMARY:Taller de bordado: monederos bordados de Lagartera
DESCRIPTION:
URL:https://www.oficinadepromocionclm.com/evento/taller-de-bordado-monederos-bordados-de-lagartera/
LOCATION:Madrid
END:VEVENT
BEGIN:VEVENT
DTSTART;TZID=Europe/Madrid:20210704T110000
DTEND;TZID=Europe/Madrid:20210704T190000
DTSTAMP:20260426T053044
CREATED:20210622T154836Z
LAST-MODIFIED:20210622T155622Z
UID:17419-1625396400-1625425200@www.oficinadepromocionclm.com
SUMMARY:Taller de cerámica impartido por el Alfarero José Luis de las Heras Puente del Arzobispo
DESCRIPTION:
URL:https://www.oficinadepromocionclm.com/evento/taller-de-ceramica-impartido-por-el-alfarero-jose-luis-de-las-heras/
LOCATION:Madrid
END:VEVENT
BEGIN:VEVENT
DTSTART;TZID=Europe/Madrid:20210710T110000
DTEND;TZID=Europe/Madrid:20210710T190000
DTSTAMP:20260426T053044
CREATED:20210630T142322Z
LAST-MODIFIED:20210630T142322Z
UID:17424-1625914800-1625943600@www.oficinadepromocionclm.com
SUMMARY:Taller de Calzado: Chancla con Alpargata
DESCRIPTION:
URL:https://www.oficinadepromocionclm.com/evento/taller-de-calzado-chancla-con-alpargata/
LOCATION:Oficina de Turismo de Castilla-La Mach en Madrid\, C\Gran Vía 45\, Madrid\, España
END:VEVENT
BEGIN:VEVENT
DTSTART;TZID=Europe/Madrid:20210711T110000
DTEND;TZID=Europe/Madrid:20210711T190000
DTSTAMP:20260426T053044
CREATED:20210630T142913Z
LAST-MODIFIED:20210630T142920Z
UID:17429-1626001200-1626030000@www.oficinadepromocionclm.com
SUMMARY:Taller de Joyería: Anillo de Crochet
DESCRIPTION:
URL:https://www.oficinadepromocionclm.com/evento/taller-de-joyeria-anillo-de-crochet/
LOCATION:Madrid
END:VEVENT
BEGIN:VEVENT
DTSTART;TZID=Europe/Madrid:20210717T110000
DTEND;TZID=Europe/Madrid:20210717T190000
DTSTAMP:20260426T053044
CREATED:20210708T102340Z
LAST-MODIFIED:20210708T102340Z
UID:17441-1626519600-1626548400@www.oficinadepromocionclm.com
SUMMARY:Taller de mochila de tela- Rocío Sanchez
DESCRIPTION:
URL:https://www.oficinadepromocionclm.com/evento/taller-de-mochila-de-tela-rocio-sanchez/
LOCATION:Madrid
END:VEVENT
BEGIN:VEVENT
DTSTART;TZID=Europe/Madrid:20210718T110000
DTEND;TZID=Europe/Madrid:20210718T190000
DTSTAMP:20260426T053044
CREATED:20210708T102534Z
LAST-MODIFIED:20210708T102534Z
UID:17445-1626606000-1626634800@www.oficinadepromocionclm.com
SUMMARY:Taller de seda cuelga abanicos- Ángeles Herrero Ambatik
DESCRIPTION:
URL:https://www.oficinadepromocionclm.com/evento/taller-de-seda-cuelga-abanicos-angeles-herrero-ambatik/
LOCATION:Madrid
END:VEVENT
BEGIN:VEVENT
DTSTART;TZID=Europe/Madrid:20210724T110000
DTEND;TZID=Europe/Madrid:20210724T190000
DTSTAMP:20260426T053044
CREATED:20210713T105200Z
LAST-MODIFIED:20210713T105322Z
UID:17455-1627124400-1627153200@www.oficinadepromocionclm.com
SUMMARY:Taller de metal- Marian Delgado
DESCRIPTION:
URL:https://www.oficinadepromocionclm.com/evento/taller-de-metal-marian-delgado/
LOCATION:Madrid
END:VEVENT
BEGIN:VEVENT
DTSTART;TZID=Europe/Madrid:20210725T110000
DTEND;TZID=Europe/Madrid:20210725T190000
DTSTAMP:20260426T053044
CREATED:20210713T091056Z
LAST-MODIFIED:20210713T091145Z
UID:17447-1627210800-1627239600@www.oficinadepromocionclm.com
SUMMARY:Taller de Bordado- Macarena Sanz
DESCRIPTION:
URL:https://www.oficinadepromocionclm.com/evento/taller-de-bordado-macarena-sanz/
LOCATION:Madrid
END:VEVENT
BEGIN:VEVENT
DTSTART;TZID=Europe/Madrid:20210731T110000
DTEND;TZID=Europe/Madrid:20210731T190000
DTSTAMP:20260426T053044
CREATED:20210713T091348Z
LAST-MODIFIED:20210713T091348Z
UID:17453-1627729200-1627758000@www.oficinadepromocionclm.com
SUMMARY:Taller de Joyería- Isabel Cañedo
DESCRIPTION:
URL:https://www.oficinadepromocionclm.com/evento/taller-de-joyeria-isabel-canedo/
LOCATION:Madrid
END:VEVENT
END:VCALENDAR