BEGIN:VCALENDAR
VERSION:2.0
PRODID:-//Oficina de promoción turística de Castilla-La Mancha en Madrid - ECPv6.13.2.1//NONSGML v1.0//EN
CALSCALE:GREGORIAN
METHOD:PUBLISH
X-WR-CALNAME:Oficina de promoción turística de Castilla-La Mancha en Madrid
X-ORIGINAL-URL:https://www.oficinadepromocionclm.com
X-WR-CALDESC:Eventos para Oficina de promoción turística de Castilla-La Mancha en Madrid
REFRESH-INTERVAL;VALUE=DURATION:PT1H
X-Robots-Tag:noindex
X-PUBLISHED-TTL:PT1H
BEGIN:VTIMEZONE
TZID:Europe/Madrid
BEGIN:DAYLIGHT
TZOFFSETFROM:+0100
TZOFFSETTO:+0200
TZNAME:CEST
DTSTART:20210328T010000
END:DAYLIGHT
BEGIN:STANDARD
TZOFFSETFROM:+0200
TZOFFSETTO:+0100
TZNAME:CET
DTSTART:20211031T010000
END:STANDARD
END:VTIMEZONE
BEGIN:VEVENT
DTSTART;VALUE=DATE:20210604
DTEND;VALUE=DATE:20210605
DTSTAMP:20260426T040830
CREATED:20210506T144349Z
LAST-MODIFIED:20210513T144936Z
UID:17296-1622764800-1622851199@www.oficinadepromocionclm.com
SUMMARY:Taller de Bordados
DESCRIPTION:
URL:https://www.oficinadepromocionclm.com/evento/taller-de-bordados/
LOCATION:Madrid
END:VEVENT
BEGIN:VEVENT
DTSTART;VALUE=DATE:20210605
DTEND;VALUE=DATE:20210606
DTSTAMP:20260426T040830
CREATED:20210506T145241Z
LAST-MODIFIED:20210513T145059Z
UID:17303-1622851200-1622937599@www.oficinadepromocionclm.com
SUMMARY:Taller de decoración en Metal
DESCRIPTION:
URL:https://www.oficinadepromocionclm.com/evento/taller-de-decoracion-en-metal/
LOCATION:Madrid
END:VEVENT
BEGIN:VEVENT
DTSTART;VALUE=DATE:20210606
DTEND;VALUE=DATE:20210607
DTSTAMP:20260426T040830
CREATED:20210506T150454Z
LAST-MODIFIED:20210513T145633Z
UID:17309-1622937600-1623023999@www.oficinadepromocionclm.com
SUMMARY:Taller de Seda
DESCRIPTION:
URL:https://www.oficinadepromocionclm.com/evento/taller-de-seda/
LOCATION:Madrid
END:VEVENT
END:VCALENDAR