BEGIN:VCALENDAR
VERSION:2.0
PRODID:-//Oficina de promoción turística de Castilla-La Mancha en Madrid - ECPv6.13.2.1//NONSGML v1.0//EN
CALSCALE:GREGORIAN
METHOD:PUBLISH
X-ORIGINAL-URL:https://www.oficinadepromocionclm.com
X-WR-CALDESC:Eventos para Oficina de promoción turística de Castilla-La Mancha en Madrid
REFRESH-INTERVAL;VALUE=DURATION:PT1H
X-Robots-Tag:noindex
X-PUBLISHED-TTL:PT1H
BEGIN:VTIMEZONE
TZID:Europe/Madrid
BEGIN:DAYLIGHT
TZOFFSETFROM:+0100
TZOFFSETTO:+0200
TZNAME:CEST
DTSTART:20200329T010000
END:DAYLIGHT
BEGIN:STANDARD
TZOFFSETFROM:+0200
TZOFFSETTO:+0100
TZNAME:CET
DTSTART:20201025T010000
END:STANDARD
END:VTIMEZONE
BEGIN:VEVENT
DTSTART;TZID=Europe/Madrid:20200502T120000
DTEND;TZID=Europe/Madrid:20200502T140000
DTSTAMP:20260425T192551
CREATED:20200130T105551Z
LAST-MODIFIED:20210201T212205Z
UID:4015-1588420800-1588428000@www.oficinadepromocionclm.com
SUMMARY:CANCELADO- Taller Broches de Seda
DESCRIPTION:
URL:https://www.oficinadepromocionclm.com/evento/taller-broches-de-seda/
LOCATION:Madrid
END:VEVENT
BEGIN:VEVENT
DTSTART;TZID=Europe/Madrid:20200502T160000
DTEND;TZID=Europe/Madrid:20200502T180000
DTSTAMP:20260425T192551
CREATED:20200130T105631Z
LAST-MODIFIED:20210201T212205Z
UID:4018-1588435200-1588442400@www.oficinadepromocionclm.com
SUMMARY:CANCELADO- Taller Broches de Seda
DESCRIPTION:
URL:https://www.oficinadepromocionclm.com/evento/taller-broches-de-seda-2/
LOCATION:Madrid
END:VEVENT
BEGIN:VEVENT
DTSTART;TZID=Europe/Madrid:20200509T110000
DTEND;TZID=Europe/Madrid:20200509T140000
DTSTAMP:20260425T192551
CREATED:20200214T153937Z
LAST-MODIFIED:20210201T212205Z
UID:4057-1589022000-1589032800@www.oficinadepromocionclm.com
SUMMARY:CANCELADO- Taller de Linograbado: La Flor del Azafran
DESCRIPTION:
URL:https://www.oficinadepromocionclm.com/evento/taller-de-linograbado-la-flor-del-azafran/
LOCATION:Madrid
END:VEVENT
BEGIN:VEVENT
DTSTART;TZID=Europe/Madrid:20200509T170000
DTEND;TZID=Europe/Madrid:20200509T183000
DTSTAMP:20260425T192551
CREATED:20200214T155342Z
LAST-MODIFIED:20210201T212205Z
UID:4060-1589043600-1589049000@www.oficinadepromocionclm.com
SUMMARY:CANCELADO- Taller de Linograbado: La Flor del Azafran
DESCRIPTION:
URL:https://www.oficinadepromocionclm.com/evento/taller-de-linograbado-la-flor-del-azafran-2/
LOCATION:Madrid
END:VEVENT
BEGIN:VEVENT
DTSTART;TZID=Europe/Madrid:20200516T113000
DTEND;TZID=Europe/Madrid:20200516T143000
DTSTAMP:20260425T192551
CREATED:20200306T115458Z
LAST-MODIFIED:20210201T212205Z
UID:4109-1589628600-1589639400@www.oficinadepromocionclm.com
SUMMARY:CANCELADO- Taller de Cerámica: Los Básicos del Torno Alfarero
DESCRIPTION:
URL:https://www.oficinadepromocionclm.com/evento/taller-de-ceramica-los-basicos-del-torno-alfarero/
LOCATION:Madrid
END:VEVENT
BEGIN:VEVENT
DTSTART;TZID=Europe/Madrid:20200516T170000
DTEND;TZID=Europe/Madrid:20200516T190000
DTSTAMP:20260425T192551
CREATED:20200306T115652Z
LAST-MODIFIED:20210201T212205Z
UID:4112-1589648400-1589655600@www.oficinadepromocionclm.com
SUMMARY:CANCELADO- Taller de Cerámica: Los Básicos del Torno Alfarero
DESCRIPTION:
URL:https://www.oficinadepromocionclm.com/evento/taller-de-ceramica-los-basicos-del-torno-alfarero-2/
LOCATION:Madrid
END:VEVENT
BEGIN:VEVENT
DTSTART;TZID=Europe/Madrid:20200529T170000
DTEND;TZID=Europe/Madrid:20200529T183000
DTSTAMP:20260425T192551
CREATED:20200303T120605Z
LAST-MODIFIED:20210201T212205Z
UID:4089-1590771600-1590777000@www.oficinadepromocionclm.com
SUMMARY:CANCELADO- Cata de Aceite de Oliva D.O. Montes de Toledo
DESCRIPTION:
URL:https://www.oficinadepromocionclm.com/evento/cata-de-aceite-de-oliva-d-o-montes-de-toledo/
LOCATION:Madrid
END:VEVENT
END:VCALENDAR