BEGIN:VCALENDAR
VERSION:2.0
PRODID:-//Oficina de promoción turística de Castilla-La Mancha en Madrid - ECPv6.13.2.1//NONSGML v1.0//EN
CALSCALE:GREGORIAN
METHOD:PUBLISH
X-ORIGINAL-URL:https://www.oficinadepromocionclm.com
X-WR-CALDESC:Eventos para Oficina de promoción turística de Castilla-La Mancha en Madrid
REFRESH-INTERVAL;VALUE=DURATION:PT1H
X-Robots-Tag:noindex
X-PUBLISHED-TTL:PT1H
BEGIN:VTIMEZONE
TZID:Europe/Madrid
BEGIN:DAYLIGHT
TZOFFSETFROM:+0100
TZOFFSETTO:+0200
TZNAME:CEST
DTSTART:20200329T010000
END:DAYLIGHT
BEGIN:STANDARD
TZOFFSETFROM:+0200
TZOFFSETTO:+0100
TZNAME:CET
DTSTART:20201025T010000
END:STANDARD
END:VTIMEZONE
BEGIN:VEVENT
DTSTART;TZID=Europe/Madrid:20200401T080000
DTEND;TZID=Europe/Madrid:20200401T170000
DTSTAMP:20260425T175105
CREATED:20200406T093038Z
LAST-MODIFIED:20200406T093047Z
UID:4177-1585728000-1585760400@www.oficinadepromocionclm.com
SUMMARY:SIN ATENCIÓN AL PÚBLICO IN SITU. DISPONIBLES POR MAIL Y TELÉFONO
DESCRIPTION:
URL:https://www.oficinadepromocionclm.com/evento/sin-atencion-al-piblico-in-situ-disponibles-por-mail-y-telefono/
LOCATION:Madrid
END:VEVENT
BEGIN:VEVENT
DTSTART;TZID=Europe/Madrid:20200402T100000
DTEND;TZID=Europe/Madrid:20200402T200000
DTSTAMP:20260425T175105
CREATED:20200406T093210Z
LAST-MODIFIED:20200406T093242Z
UID:4181-1585821600-1585857600@www.oficinadepromocionclm.com
SUMMARY:SIN ATENCIÓN AL PÚBLICO IN SITU. DISPONIBLES POR MAIL Y TELÉFONO
DESCRIPTION:
URL:https://www.oficinadepromocionclm.com/evento/sin-atencion-al-publico-in-situ-disponibles-por-mail-y-telefono-2/
LOCATION:Madrid
END:VEVENT
BEGIN:VEVENT
DTSTART;TZID=Europe/Madrid:20200403T100000
DTEND;TZID=Europe/Madrid:20200403T200000
DTSTAMP:20260425T175105
CREATED:20200406T094005Z
LAST-MODIFIED:20210201T212205Z
UID:4187-1585908000-1585944000@www.oficinadepromocionclm.com
SUMMARY:SIN ATENCIÓN AL PÚBLICO IN SITU. DISPONIBLES POR MAIL Y TELÉFONO
DESCRIPTION:
URL:https://www.oficinadepromocionclm.com/evento/sin-atencion-al-publico-in-situ-disponibles-por-mail-y-telefono-4/
LOCATION:Madrid
END:VEVENT
BEGIN:VEVENT
DTSTART;TZID=Europe/Madrid:20200404T113000
DTEND;TZID=Europe/Madrid:20200404T143000
DTSTAMP:20260425T175105
CREATED:20200205T154902Z
LAST-MODIFIED:20210201T212205Z
UID:4033-1585999800-1586010600@www.oficinadepromocionclm.com
SUMMARY:CANCELADO - Taller de decoración: Figuras de Nazarenos
DESCRIPTION:
URL:https://www.oficinadepromocionclm.com/evento/taller-de-decoracion-figuras-de-nazarenos/
LOCATION:Madrid
END:VEVENT
BEGIN:VEVENT
DTSTART;TZID=Europe/Madrid:20200404T160000
DTEND;TZID=Europe/Madrid:20200404T173000
DTSTAMP:20260425T175105
CREATED:20200205T154953Z
LAST-MODIFIED:20210201T212205Z
UID:4036-1586016000-1586021400@www.oficinadepromocionclm.com
SUMMARY:CANCELADO -Taller de decoración: Figuras de Nazarenos
DESCRIPTION:
URL:https://www.oficinadepromocionclm.com/evento/taller-de-decoracion-figuras-de-nazarenos-2/
LOCATION:Madrid
END:VEVENT
BEGIN:VEVENT
DTSTART;TZID=Europe/Madrid:20200405T100000
DTEND;TZID=Europe/Madrid:20200405T200000
DTSTAMP:20260425T175105
CREATED:20200406T094107Z
LAST-MODIFIED:20210201T212205Z
UID:4190-1586080800-1586116800@www.oficinadepromocionclm.com
SUMMARY:SIN ATENCIÓN AL PUBLICO IN SITU. DISPONIBLES POR MAIL Y TELÉFONO.
DESCRIPTION:
URL:https://www.oficinadepromocionclm.com/evento/sin-atencion-al-publico-in-situ-disponibles-por-mail-y-telefono-5/
LOCATION:Madrid
END:VEVENT
BEGIN:VEVENT
DTSTART;TZID=Europe/Madrid:20200406T100000
DTEND;TZID=Europe/Madrid:20200406T200000
DTSTAMP:20260425T175105
CREATED:20200406T092927Z
LAST-MODIFIED:20210201T212205Z
UID:4175-1586167200-1586203200@www.oficinadepromocionclm.com
SUMMARY:SIN ATENCIÓN AL PÚBLICO IN SITU - DISPONIBLES POR MAIL Y TELÉFONO
DESCRIPTION:
URL:https://www.oficinadepromocionclm.com/evento/sin-atencion-al-publico-in-situ-disponibles-por-mail-y-telefono/
LOCATION:Madrid
END:VEVENT
BEGIN:VEVENT
DTSTART;TZID=Europe/Madrid:20200407T100000
DTEND;TZID=Europe/Madrid:20200417T200000
DTSTAMP:20260425T175105
CREATED:20200406T093449Z
LAST-MODIFIED:20210201T212205Z
UID:4184-1586253600-1587153600@www.oficinadepromocionclm.com
SUMMARY:SIN ATENCIÓN AL PÚBLICO IN SITU. DISPONIBLES POR MAIL Y TELÉFONO
DESCRIPTION:
URL:https://www.oficinadepromocionclm.com/evento/sin-atencion-al-publico-in-situ-disponibles-por-mail-y-telefono-3/
LOCATION:Madrid
END:VEVENT
BEGIN:VEVENT
DTSTART;TZID=Europe/Madrid:20200418T120000
DTEND;TZID=Europe/Madrid:20200418T133000
DTSTAMP:20260425T175105
CREATED:20200115T154542Z
LAST-MODIFIED:20210201T212205Z
UID:3949-1587211200-1587216600@www.oficinadepromocionclm.com
SUMMARY:CANCELADO- Taller Abanicos Amapolas
DESCRIPTION:
URL:https://www.oficinadepromocionclm.com/evento/taller-abanicos-amapolas/
LOCATION:Madrid
END:VEVENT
BEGIN:VEVENT
DTSTART;TZID=Europe/Madrid:20200418T160000
DTEND;TZID=Europe/Madrid:20200418T173000
DTSTAMP:20260425T175105
CREATED:20200115T154639Z
LAST-MODIFIED:20210201T212205Z
UID:3952-1587225600-1587231000@www.oficinadepromocionclm.com
SUMMARY:CANCELADO- Taller Abanicos Amapolas
DESCRIPTION:
URL:https://www.oficinadepromocionclm.com/evento/taller-abanicos-amapolas-2/
LOCATION:Madrid
END:VEVENT
BEGIN:VEVENT
DTSTART;TZID=Europe/Madrid:20200419T110000
DTEND;TZID=Europe/Madrid:20200419T140000
DTSTAMP:20260425T175105
CREATED:20200211T134139Z
LAST-MODIFIED:20210201T212205Z
UID:4045-1587294000-1587304800@www.oficinadepromocionclm.com
SUMMARY:CANCELADO- Taller de bordado: Monederos florales
DESCRIPTION:
URL:https://www.oficinadepromocionclm.com/evento/taller-de-bordado-monederos-florales/
LOCATION:Madrid
END:VEVENT
BEGIN:VEVENT
DTSTART;TZID=Europe/Madrid:20200419T163000
DTEND;TZID=Europe/Madrid:20200419T180000
DTSTAMP:20260425T175105
CREATED:20200211T134425Z
LAST-MODIFIED:20210201T212205Z
UID:4048-1587313800-1587319200@www.oficinadepromocionclm.com
SUMMARY:CANCELADO-Taller de bordado: Monederos florales
DESCRIPTION:
URL:https://www.oficinadepromocionclm.com/evento/taller-de-bordado-monederos-florales-2/
LOCATION:Madrid
END:VEVENT
BEGIN:VEVENT
DTSTART;TZID=Europe/Madrid:20200426T113000
DTEND;TZID=Europe/Madrid:20200426T130000
DTSTAMP:20260425T175105
CREATED:20200130T162446Z
LAST-MODIFIED:20210201T212205Z
UID:4026-1587900600-1587906000@www.oficinadepromocionclm.com
SUMMARY:CANCELADO- Taller Naturaleza Bolsas de Tela Tablas de Daimiel
DESCRIPTION:
URL:https://www.oficinadepromocionclm.com/evento/taller-naturaleza-bolsas-de-tela-tablas-de-daimiel/
LOCATION:Madrid
END:VEVENT
BEGIN:VEVENT
DTSTART;TZID=Europe/Madrid:20200426T160000
DTEND;TZID=Europe/Madrid:20200426T173000
DTSTAMP:20260425T175105
CREATED:20200130T162534Z
LAST-MODIFIED:20210201T212205Z
UID:4029-1587916800-1587922200@www.oficinadepromocionclm.com
SUMMARY:CANCELADO- Taller Naturaleza Bolsas de Tela Tablas de Daimiel
DESCRIPTION:
URL:https://www.oficinadepromocionclm.com/evento/taller-naturaleza-bolsas-de-tela-tablas-de-daimiel-2/
LOCATION:Madrid
END:VEVENT
END:VCALENDAR