BEGIN:VCALENDAR
VERSION:2.0
PRODID:-//Oficina de promoción turística de Castilla-La Mancha en Madrid - ECPv6.13.2.1//NONSGML v1.0//EN
CALSCALE:GREGORIAN
METHOD:PUBLISH
X-WR-CALNAME:Oficina de promoción turística de Castilla-La Mancha en Madrid
X-ORIGINAL-URL:https://www.oficinadepromocionclm.com
X-WR-CALDESC:Eventos para Oficina de promoción turística de Castilla-La Mancha en Madrid
REFRESH-INTERVAL;VALUE=DURATION:PT1H
X-Robots-Tag:noindex
X-PUBLISHED-TTL:PT1H
BEGIN:VTIMEZONE
TZID:Europe/Madrid
BEGIN:DAYLIGHT
TZOFFSETFROM:+0100
TZOFFSETTO:+0200
TZNAME:CEST
DTSTART:20190331T010000
END:DAYLIGHT
BEGIN:STANDARD
TZOFFSETFROM:+0200
TZOFFSETTO:+0100
TZNAME:CET
DTSTART:20191027T010000
END:STANDARD
END:VTIMEZONE
BEGIN:VEVENT
DTSTART;TZID=Europe/Madrid:20190901T120000
DTEND;TZID=Europe/Madrid:20190901T140000
DTSTAMP:20260425T220443
CREATED:20190822T095808Z
LAST-MODIFIED:20190822T100027Z
UID:3499-1567339200-1567346400@www.oficinadepromocionclm.com
SUMMARY:Taller de Naturaleza: elaboración de comederos de Aves
DESCRIPTION:
URL:https://www.oficinadepromocionclm.com/evento/taller-de-comederos-de-aves/
LOCATION:Madrid
END:VEVENT
BEGIN:VEVENT
DTSTART;TZID=Europe/Madrid:20190901T170000
DTEND;TZID=Europe/Madrid:20190901T180000
DTSTAMP:20260425T220443
CREATED:20190822T095843Z
LAST-MODIFIED:20190822T095949Z
UID:3501-1567357200-1567360800@www.oficinadepromocionclm.com
SUMMARY:Taller de Naturaleza: elaboración de comederos de Aves
DESCRIPTION:
URL:https://www.oficinadepromocionclm.com/evento/taller-de-comederos-de-aves-2/
LOCATION:Madrid
END:VEVENT
BEGIN:VEVENT
DTSTART;TZID=Europe/Madrid:20190907T113000
DTEND;TZID=Europe/Madrid:20190907T133000
DTSTAMP:20260425T220443
CREATED:20190604T120834Z
LAST-MODIFIED:20190712T130002Z
UID:3136-1567855800-1567863000@www.oficinadepromocionclm.com
SUMMARY:Taller elaboración de Botijos
DESCRIPTION:
URL:https://www.oficinadepromocionclm.com/evento/taller-elaboracion-de-botijos/
LOCATION:Madrid
END:VEVENT
BEGIN:VEVENT
DTSTART;TZID=Europe/Madrid:20190907T160000
DTEND;TZID=Europe/Madrid:20190907T180000
DTSTAMP:20260425T220443
CREATED:20190604T120950Z
LAST-MODIFIED:20190712T125906Z
UID:3139-1567872000-1567879200@www.oficinadepromocionclm.com
SUMMARY:Taller elaboración de Botijos
DESCRIPTION:
URL:https://www.oficinadepromocionclm.com/evento/taller-elaboracion-de-botijos-2/
LOCATION:Madrid
END:VEVENT
BEGIN:VEVENT
DTSTART;TZID=Europe/Madrid:20190908T130000
DTEND;TZID=Europe/Madrid:20190908T140000
DTSTAMP:20260425T220443
CREATED:20190830T155421Z
LAST-MODIFIED:20190830T155430Z
UID:3507-1567947600-1567951200@www.oficinadepromocionclm.com
SUMMARY:Cata comentada Ruta del vino Mancha-T
DESCRIPTION:
URL:https://www.oficinadepromocionclm.com/evento/cata-comentada-ruta-del-vino-mancha-t/
LOCATION:Madrid
END:VEVENT
BEGIN:VEVENT
DTSTART;TZID=Europe/Madrid:20190914T113000
DTEND;TZID=Europe/Madrid:20190914T123000
DTSTAMP:20260425T220443
CREATED:20190711T141330Z
LAST-MODIFIED:20190712T130044Z
UID:3412-1568460600-1568464200@www.oficinadepromocionclm.com
SUMMARY:Taller pintura prehistórica
DESCRIPTION:
URL:https://www.oficinadepromocionclm.com/evento/taller-pintura-prehistorica/
LOCATION:Madrid
END:VEVENT
BEGIN:VEVENT
DTSTART;TZID=Europe/Madrid:20190914T130000
DTEND;TZID=Europe/Madrid:20190914T140000
DTSTAMP:20260425T220443
CREATED:20190711T141404Z
LAST-MODIFIED:20190712T130120Z
UID:3415-1568466000-1568469600@www.oficinadepromocionclm.com
SUMMARY:Taller pintura prehistórica
DESCRIPTION:
URL:https://www.oficinadepromocionclm.com/evento/taller-pintura-prehistorica-2/
LOCATION:Madrid
END:VEVENT
BEGIN:VEVENT
DTSTART;TZID=Europe/Madrid:20190915T113000
DTEND;TZID=Europe/Madrid:20190915T143000
DTSTAMP:20260425T220443
CREATED:20190802T151119Z
LAST-MODIFIED:20190914T105954Z
UID:3467-1568547000-1568557800@www.oficinadepromocionclm.com
SUMMARY:Taller de bisutería inspirada en el yacimiento de Motilla de Azuer
DESCRIPTION:
URL:https://www.oficinadepromocionclm.com/evento/taller-de-bisuteria-inspirada-en-el-yacimiento-de-motilla-de-azuer/
LOCATION:Madrid
END:VEVENT
BEGIN:VEVENT
DTSTART;TZID=Europe/Madrid:20190915T170000
DTEND;TZID=Europe/Madrid:20190915T190000
DTSTAMP:20260425T220443
CREATED:20190802T151229Z
LAST-MODIFIED:20190914T110051Z
UID:3469-1568566800-1568574000@www.oficinadepromocionclm.com
SUMMARY:Taller de bisutería inspirada en el yacimiento de Motilla de Azuer
DESCRIPTION:
URL:https://www.oficinadepromocionclm.com/evento/taller-de-bisuteria-inspirada-en-el-yacimiento-de-motilla-de-azuer-2/
LOCATION:Madrid
END:VEVENT
BEGIN:VEVENT
DTSTART;TZID=Europe/Madrid:20190922T110000
DTEND;TZID=Europe/Madrid:20190922T140000
DTSTAMP:20260425T220443
CREATED:20190906T114019Z
LAST-MODIFIED:20190914T110329Z
UID:3521-1569150000-1569160800@www.oficinadepromocionclm.com
SUMMARY:Taller de Ganchillo: Ovejas Manchegas
DESCRIPTION:
URL:https://www.oficinadepromocionclm.com/evento/taller-de-ganchillo-ovejas-manchegas/
LOCATION:Madrid
END:VEVENT
BEGIN:VEVENT
DTSTART;TZID=Europe/Madrid:20190922T163000
DTEND;TZID=Europe/Madrid:20190922T180000
DTSTAMP:20260425T220443
CREATED:20190906T114109Z
LAST-MODIFIED:20190914T110410Z
UID:3523-1569169800-1569175200@www.oficinadepromocionclm.com
SUMMARY:Taller de Ganchillo: Ovejas Manchegas
DESCRIPTION:
URL:https://www.oficinadepromocionclm.com/evento/taller-de-ganchillo-ovejas-manchegas-2/
LOCATION:Madrid
END:VEVENT
BEGIN:VEVENT
DTSTART;TZID=Europe/Madrid:20190927T130000
DTEND;TZID=Europe/Madrid:20190927T140000
DTSTAMP:20260425T220443
CREATED:20190820T083854Z
LAST-MODIFIED:20190820T083854Z
UID:3496-1569589200-1569592800@www.oficinadepromocionclm.com
SUMMARY:Presentación y Cata de Vino " La Bodega de las Estrellas"
DESCRIPTION:
URL:https://www.oficinadepromocionclm.com/evento/presentacion-y-cata-de-vino-la-bodega-de-las-estrellas/
LOCATION:Madrid
END:VEVENT
BEGIN:VEVENT
DTSTART;TZID=Europe/Madrid:20190928T113000
DTEND;TZID=Europe/Madrid:20190928T143000
DTSTAMP:20260425T220443
CREATED:20190802T145340Z
LAST-MODIFIED:20190914T110502Z
UID:3460-1569670200-1569681000@www.oficinadepromocionclm.com
SUMMARY:Taller de elaboración de castañeras en barro
DESCRIPTION:
URL:https://www.oficinadepromocionclm.com/evento/taller-de-elaboracion-de-castaneras-en-barro/
LOCATION:Madrid
END:VEVENT
BEGIN:VEVENT
DTSTART;TZID=Europe/Madrid:20190928T170000
DTEND;TZID=Europe/Madrid:20190928T190000
DTSTAMP:20260425T220443
CREATED:20190802T145425Z
LAST-MODIFIED:20190914T110537Z
UID:3463-1569690000-1569697200@www.oficinadepromocionclm.com
SUMMARY:Taller de elaboración de castañeras en barro
DESCRIPTION:
URL:https://www.oficinadepromocionclm.com/evento/taller-de-elaboracion-de-castaneras-en-barro-2/
LOCATION:Madrid
END:VEVENT
BEGIN:VEVENT
DTSTART;TZID=Europe/Madrid:20190929T113000
DTEND;TZID=Europe/Madrid:20190929T143000
DTSTAMP:20260425T220444
CREATED:20190710T150643Z
LAST-MODIFIED:20190914T110618Z
UID:3384-1569756600-1569767400@www.oficinadepromocionclm.com
SUMMARY:Taller de Mandalas en Vidrio
DESCRIPTION:
URL:https://www.oficinadepromocionclm.com/evento/taller-de-mandalas-en-vidrio/
LOCATION:Madrid
END:VEVENT
BEGIN:VEVENT
DTSTART;TZID=Europe/Madrid:20190929T170000
DTEND;TZID=Europe/Madrid:20190929T190000
DTSTAMP:20260425T220444
CREATED:20190710T150811Z
LAST-MODIFIED:20190914T110647Z
UID:3387-1569776400-1569783600@www.oficinadepromocionclm.com
SUMMARY:Taller de Mandalas en Vidrio
DESCRIPTION:
URL:https://www.oficinadepromocionclm.com/evento/taller-de-mandalas-en-vidrio-2/
LOCATION:Madrid
END:VEVENT
END:VCALENDAR