BEGIN:VCALENDAR
VERSION:2.0
PRODID:-//Oficina de promoción turística de Castilla-La Mancha en Madrid - ECPv6.13.2.1//NONSGML v1.0//EN
CALSCALE:GREGORIAN
METHOD:PUBLISH
X-WR-CALNAME:Oficina de promoción turística de Castilla-La Mancha en Madrid
X-ORIGINAL-URL:https://www.oficinadepromocionclm.com
X-WR-CALDESC:Eventos para Oficina de promoción turística de Castilla-La Mancha en Madrid
REFRESH-INTERVAL;VALUE=DURATION:PT1H
X-Robots-Tag:noindex
X-PUBLISHED-TTL:PT1H
BEGIN:VTIMEZONE
TZID:Europe/Madrid
BEGIN:DAYLIGHT
TZOFFSETFROM:+0100
TZOFFSETTO:+0200
TZNAME:CEST
DTSTART:20190331T010000
END:DAYLIGHT
BEGIN:STANDARD
TZOFFSETFROM:+0200
TZOFFSETTO:+0100
TZNAME:CET
DTSTART:20191027T010000
END:STANDARD
END:VTIMEZONE
BEGIN:VEVENT
DTSTART;TZID=Europe/Madrid:20190705T120000
DTEND;TZID=Europe/Madrid:20190705T133000
DTSTAMP:20260426T010514
CREATED:20190528T114727Z
LAST-MODIFIED:20190606T131702Z
UID:3102-1562328000-1562333400@www.oficinadepromocionclm.com
SUMMARY:Presentación Ciclo Musical "Atardeceres en Vivo 2019"
DESCRIPTION:
URL:https://www.oficinadepromocionclm.com/evento/presentacion-ciclo-musical-atardeceres-en-vivo-2019/
LOCATION:Madrid
END:VEVENT
BEGIN:VEVENT
DTSTART;TZID=Europe/Madrid:20190706T130000
DTEND;TZID=Europe/Madrid:20190706T140000
DTSTAMP:20260426T010514
CREATED:20190607T124324Z
LAST-MODIFIED:20190607T124335Z
UID:3177-1562418000-1562421600@www.oficinadepromocionclm.com
SUMMARY:Cata comentada de vinos de la  D.O. LA MANCHA
DESCRIPTION:
URL:https://www.oficinadepromocionclm.com/evento/cata-comentada-de-vinos-de-la-d-o-la-mancha/
LOCATION:Madrid
END:VEVENT
BEGIN:VEVENT
DTSTART;TZID=Europe/Madrid:20190707T113000
DTEND;TZID=Europe/Madrid:20190707T143000
DTSTAMP:20260426T010514
CREATED:20190522T113724Z
LAST-MODIFIED:20190623T111253Z
UID:3057-1562499000-1562509800@www.oficinadepromocionclm.com
SUMMARY:Taller de Cerámica: Azulejos de Arista Mudéjares
DESCRIPTION:
URL:https://www.oficinadepromocionclm.com/evento/taller-de-ceramica-azulejos-de-arista-mudejares/
LOCATION:Madrid
END:VEVENT
BEGIN:VEVENT
DTSTART;TZID=Europe/Madrid:20190707T170000
DTEND;TZID=Europe/Madrid:20190707T190000
DTSTAMP:20260426T010514
CREATED:20190522T113831Z
LAST-MODIFIED:20190623T111358Z
UID:3060-1562518800-1562526000@www.oficinadepromocionclm.com
SUMMARY:Taller de Cerámica: Azulejos de Arista Mudéjares
DESCRIPTION:
URL:https://www.oficinadepromocionclm.com/evento/taller-de-ceramica-azulejos-de-arista-mudejares-2/
LOCATION:Madrid
END:VEVENT
BEGIN:VEVENT
DTSTART;TZID=Europe/Madrid:20190712T120000
DTEND;TZID=Europe/Madrid:20190712T133000
DTSTAMP:20260426T010514
CREATED:20190704T091753Z
LAST-MODIFIED:20190704T091753Z
UID:3375-1562932800-1562938200@www.oficinadepromocionclm.com
SUMMARY:Presentación de las VI Jornadas Ibero-Romanas Laminitanas.
DESCRIPTION:
URL:https://www.oficinadepromocionclm.com/evento/presentacion-de-las-vi-jornadas-ibero-romanas-laminitanas/
LOCATION:Madrid
END:VEVENT
BEGIN:VEVENT
DTSTART;TZID=Europe/Madrid:20190712T170000
DTEND;TZID=Europe/Madrid:20190712T170000
DTSTAMP:20260426T010514
CREATED:20190614T130002Z
LAST-MODIFIED:20190623T111656Z
UID:3244-1562950800-1562950800@www.oficinadepromocionclm.com
SUMMARY:Taller de armas y escudos íberos
DESCRIPTION:
URL:https://www.oficinadepromocionclm.com/evento/taller-de-armas-y-escudos-iberos/
LOCATION:Madrid
END:VEVENT
BEGIN:VEVENT
DTSTART;TZID=Europe/Madrid:20190713T110000
DTEND;TZID=Europe/Madrid:20190713T140000
DTSTAMP:20260426T010514
CREATED:20190528T115323Z
LAST-MODIFIED:20190623T111719Z
UID:3105-1563015600-1563026400@www.oficinadepromocionclm.com
SUMMARY:Taller de elaboración de Flores de Foamirán
DESCRIPTION:
URL:https://www.oficinadepromocionclm.com/evento/taller-de-elaboracion-de-flores-de-foamiran/
LOCATION:Madrid
END:VEVENT
BEGIN:VEVENT
DTSTART;TZID=Europe/Madrid:20190713T163000
DTEND;TZID=Europe/Madrid:20190713T193000
DTSTAMP:20260426T010514
CREATED:20190528T115402Z
LAST-MODIFIED:20190623T111745Z
UID:3108-1563035400-1563046200@www.oficinadepromocionclm.com
SUMMARY:Taller de elaboración de Flores de Foamirán
DESCRIPTION:
URL:https://www.oficinadepromocionclm.com/evento/taller-de-elaboracion-de-flores-de-foamiran-2/
LOCATION:Madrid
END:VEVENT
BEGIN:VEVENT
DTSTART;TZID=Europe/Madrid:20190714T113000
DTEND;TZID=Europe/Madrid:20190714T143000
DTSTAMP:20260426T010514
CREATED:20190523T095455Z
LAST-MODIFIED:20190623T111900Z
UID:3070-1563103800-1563114600@www.oficinadepromocionclm.com
SUMMARY:Taller de Jabón Artesano
DESCRIPTION:
URL:https://www.oficinadepromocionclm.com/evento/taller-de-jabon-artesano/
LOCATION:Madrid
END:VEVENT
BEGIN:VEVENT
DTSTART;TZID=Europe/Madrid:20190714T160000
DTEND;TZID=Europe/Madrid:20190714T190000
DTSTAMP:20260426T010514
CREATED:20190523T100520Z
LAST-MODIFIED:20190623T111954Z
UID:3073-1563120000-1563130800@www.oficinadepromocionclm.com
SUMMARY:Taller de Jabón Artesano
DESCRIPTION:
URL:https://www.oficinadepromocionclm.com/evento/taller-de-jabon-artesano-2/
LOCATION:Madrid
END:VEVENT
BEGIN:VEVENT
DTSTART;TZID=Europe/Madrid:20190720T113000
DTEND;TZID=Europe/Madrid:20190720T113000
DTSTAMP:20260426T010514
CREATED:20190605T090159Z
LAST-MODIFIED:20190622T153324Z
UID:3156-1563622200-1563622200@www.oficinadepromocionclm.com
SUMMARY:Presentación El Juramento del Guerrillero
DESCRIPTION:
URL:https://www.oficinadepromocionclm.com/evento/presentacion-el-juramento-del-guerrillero/
LOCATION:Madrid\, Calle Gran Vía\, 45\, Madrid\, España
END:VEVENT
BEGIN:VEVENT
DTSTART;TZID=Europe/Madrid:20190720T173000
DTEND;TZID=Europe/Madrid:20190720T183000
DTSTAMP:20260426T010514
CREATED:20190612T142037Z
LAST-MODIFIED:20190623T114718Z
UID:3210-1563643800-1563647400@www.oficinadepromocionclm.com
SUMMARY:Taller de Monederos Manchegos de Camuñas
DESCRIPTION:
URL:https://www.oficinadepromocionclm.com/evento/taller-de-monederos-manchegos-de-camunas/
LOCATION:Madrid
END:VEVENT
BEGIN:VEVENT
DTSTART;TZID=Europe/Madrid:20190721T113000
DTEND;TZID=Europe/Madrid:20190721T133000
DTSTAMP:20260426T010514
CREATED:20190605T094354Z
LAST-MODIFIED:20190711T120506Z
UID:3160-1563708600-1563715800@www.oficinadepromocionclm.com
SUMMARY:Taller de Saquitos Bordados
DESCRIPTION:
URL:https://www.oficinadepromocionclm.com/evento/taller-de-saquitos-bordados/
LOCATION:Madrid
END:VEVENT
BEGIN:VEVENT
DTSTART;TZID=Europe/Madrid:20190721T170000
DTEND;TZID=Europe/Madrid:20190721T190000
DTSTAMP:20260426T010514
CREATED:20190605T094425Z
LAST-MODIFIED:20190711T120444Z
UID:3163-1563728400-1563735600@www.oficinadepromocionclm.com
SUMMARY:Taller de Saquitos Bordados
DESCRIPTION:
URL:https://www.oficinadepromocionclm.com/evento/taller-de-saquitos-bordados-2/
LOCATION:Madrid
END:VEVENT
BEGIN:VEVENT
DTSTART;TZID=Europe/Madrid:20190724T173000
DTEND;TZID=Europe/Madrid:20190724T173000
DTSTAMP:20260426T010514
CREATED:20190716T085841Z
LAST-MODIFIED:20190716T085841Z
UID:3441-1563989400-1563989400@www.oficinadepromocionclm.com
SUMMARY:PRESENTACIÓN OFICIAL EDICION  2019 MÚSICA EN LOS RINCONES-Molinicos
DESCRIPTION:
URL:https://www.oficinadepromocionclm.com/evento/presentacion-oficial-edicion-2019-musica-en-los-rincones-molinicos/
LOCATION:Madrid
END:VEVENT
BEGIN:VEVENT
DTSTART;TZID=Europe/Madrid:20190726T180000
DTEND;TZID=Europe/Madrid:20190726T190000
DTSTAMP:20260426T010514
CREATED:20190706T130318Z
LAST-MODIFIED:20190714T154134Z
UID:3382-1564164000-1564167600@www.oficinadepromocionclm.com
SUMMARY:XII FESTIVAL MUSICA CLÁSICA VILLANUEVA DE LOS INFANTES
DESCRIPTION:
URL:https://www.oficinadepromocionclm.com/evento/xii-festival-musica-clasica-villanueva-de-los-infantes/
LOCATION:Madrid
END:VEVENT
BEGIN:VEVENT
DTSTART;TZID=Europe/Madrid:20190727T110000
DTEND;TZID=Europe/Madrid:20190727T140000
DTSTAMP:20260426T010514
CREATED:20190522T114205Z
LAST-MODIFIED:20190629T173013Z
UID:3062-1564225200-1564236000@www.oficinadepromocionclm.com
SUMMARY:Taller de Abanicos con Decoración Cerámica de Talavera
DESCRIPTION:
URL:https://www.oficinadepromocionclm.com/evento/3062/
LOCATION:Madrid
END:VEVENT
BEGIN:VEVENT
DTSTART;TZID=Europe/Madrid:20190727T170000
DTEND;TZID=Europe/Madrid:20190727T193000
DTSTAMP:20260426T010514
CREATED:20190522T114326Z
LAST-MODIFIED:20190629T173051Z
UID:3066-1564246800-1564255800@www.oficinadepromocionclm.com
SUMMARY:Taller de Abanicos con Decoración Cerámica de Talavera
DESCRIPTION:
URL:https://www.oficinadepromocionclm.com/evento/taller-de-abanicos-con-decoracion-ceramica-de-talavera/
LOCATION:Madrid
END:VEVENT
BEGIN:VEVENT
DTSTART;TZID=Europe/Madrid:20190728T120000
DTEND;TZID=Europe/Madrid:20190728T130000
DTSTAMP:20260426T010514
CREATED:20190528T112851Z
LAST-MODIFIED:20190623T112503Z
UID:3091-1564315200-1564318800@www.oficinadepromocionclm.com
SUMMARY:Taller de Papiroflexia: Albacete y El Virrey Morcillo
DESCRIPTION:
URL:https://www.oficinadepromocionclm.com/evento/taller-de-papiroflexia-albacete-y-el-virrey-morcillo/
LOCATION:Madrid
END:VEVENT
BEGIN:VEVENT
DTSTART;TZID=Europe/Madrid:20190728T170000
DTEND;TZID=Europe/Madrid:20190728T180000
DTSTAMP:20260426T010514
CREATED:20190528T112942Z
LAST-MODIFIED:20190623T113207Z
UID:3094-1564333200-1564336800@www.oficinadepromocionclm.com
SUMMARY:Taller de Papiroflexia: Albacete y El Virrey Morcillo
DESCRIPTION:
URL:https://www.oficinadepromocionclm.com/evento/taller-de-papiroflexia-albacete-y-el-virrey-morcillo-2/
LOCATION:Madrid
END:VEVENT
END:VCALENDAR