BEGIN:VCALENDAR
VERSION:2.0
PRODID:-//Oficina de promoción turística de Castilla-La Mancha en Madrid - ECPv6.13.2.1//NONSGML v1.0//EN
CALSCALE:GREGORIAN
METHOD:PUBLISH
X-WR-CALNAME:Oficina de promoción turística de Castilla-La Mancha en Madrid
X-ORIGINAL-URL:https://www.oficinadepromocionclm.com
X-WR-CALDESC:Eventos para Oficina de promoción turística de Castilla-La Mancha en Madrid
REFRESH-INTERVAL;VALUE=DURATION:PT1H
X-Robots-Tag:noindex
X-PUBLISHED-TTL:PT1H
BEGIN:VTIMEZONE
TZID:Europe/Madrid
BEGIN:DAYLIGHT
TZOFFSETFROM:+0100
TZOFFSETTO:+0200
TZNAME:CEST
DTSTART:20190331T010000
END:DAYLIGHT
BEGIN:STANDARD
TZOFFSETFROM:+0200
TZOFFSETTO:+0100
TZNAME:CET
DTSTART:20191027T010000
END:STANDARD
END:VTIMEZONE
BEGIN:VEVENT
DTSTART;TZID=Europe/Madrid:20190405T173000
DTEND;TZID=Europe/Madrid:20190405T183000
DTSTAMP:20260426T052943
CREATED:20190314T113235Z
LAST-MODIFIED:20190320T110022Z
UID:2792-1554485400-1554489000@www.oficinadepromocionclm.com
SUMMARY:Cata literaria ¿Donde están los días? - Cerveza Domus
DESCRIPTION:
URL:https://www.oficinadepromocionclm.com/evento/cata-literaria-donde-estan-los-dias-cerveza-domus/
LOCATION:Madrid
END:VEVENT
BEGIN:VEVENT
DTSTART;TZID=Europe/Madrid:20190406T180000
DTEND;TZID=Europe/Madrid:20190406T190000
DTSTAMP:20260426T052943
CREATED:20190313T162654Z
LAST-MODIFIED:20190320T082835Z
UID:2778-1554573600-1554577200@www.oficinadepromocionclm.com
SUMMARY:Presentación de la Fiesta del Mayo Manchego de Pedro Muñoz (Ciudad Real)
DESCRIPTION:
URL:https://www.oficinadepromocionclm.com/evento/presentacion-de-la-fiesta-del-mayo-manchego-pedro-munoz/
LOCATION:Madrid
END:VEVENT
BEGIN:VEVENT
DTSTART;TZID=Europe/Madrid:20190407T113000
DTEND;TZID=Europe/Madrid:20190407T140000
DTSTAMP:20260426T052943
CREATED:20190322T091518Z
LAST-MODIFIED:20190322T092530Z
UID:2832-1554636600-1554645600@www.oficinadepromocionclm.com
SUMMARY:Taller de Tutilimundi
DESCRIPTION:
URL:https://www.oficinadepromocionclm.com/evento/taller-de-tutilimundi/
LOCATION:Madrid
END:VEVENT
BEGIN:VEVENT
DTSTART;TZID=Europe/Madrid:20190407T180000
DTEND;TZID=Europe/Madrid:20190407T193000
DTSTAMP:20260426T052943
CREATED:20190316T121546Z
LAST-MODIFIED:20190328T143944Z
UID:2810-1554660000-1554665400@www.oficinadepromocionclm.com
SUMMARY:Presentación Revista Motoviajeros
DESCRIPTION:
URL:https://www.oficinadepromocionclm.com/evento/presentacion-revista-motoviajeros-de-guadalajara/
LOCATION:Madrid
END:VEVENT
BEGIN:VEVENT
DTSTART;TZID=Europe/Madrid:20190409T170000
DTEND;TZID=Europe/Madrid:20190409T180000
DTSTAMP:20260426T052943
CREATED:20190319T103005Z
LAST-MODIFIED:20190319T103005Z
UID:2815-1554829200-1554832800@www.oficinadepromocionclm.com
SUMMARY:Jornada Formativa para el IES Hotel Escuela de Colmenar Viejo (Madrid)
DESCRIPTION:
URL:https://www.oficinadepromocionclm.com/evento/jornada-formativa-para-el-ies-hotel-escuela-de-colmenar-viejo-madrid/
LOCATION:Madrid
END:VEVENT
BEGIN:VEVENT
DTSTART;TZID=Europe/Madrid:20190410T113000
DTEND;TZID=Europe/Madrid:20190410T133000
DTSTAMP:20260426T052943
CREATED:20190402T113315Z
LAST-MODIFIED:20190404T141415Z
UID:2881-1554895800-1554903000@www.oficinadepromocionclm.com
SUMMARY:Presentación de la Feria de los Sabores con el Ayuntamiento de Alcázar de San Juan (Ciudad Real)
DESCRIPTION:
URL:https://www.oficinadepromocionclm.com/evento/feria-sabor-valdepenas/
LOCATION:Madrid
END:VEVENT
BEGIN:VEVENT
DTSTART;TZID=Europe/Madrid:20190411T110000
DTEND;TZID=Europe/Madrid:20190411T133000
DTSTAMP:20260426T052943
CREATED:20190402T094535Z
LAST-MODIFIED:20190404T141323Z
UID:2878-1554980400-1554989400@www.oficinadepromocionclm.com
SUMMARY:Presentación de "El País del Quijote. Una ruta de ensueño" con el Ayuntamiento de Argamasilla de Alba (Ciudad Real)
DESCRIPTION:
URL:https://www.oficinadepromocionclm.com/evento/pais-de-el-quijote-una-ruta-de-ensueno/
LOCATION:Madrid
END:VEVENT
BEGIN:VEVENT
DTSTART;TZID=Europe/Madrid:20190412T110000
DTEND;TZID=Europe/Madrid:20190412T120000
DTSTAMP:20260426T052943
CREATED:20190404T104943Z
LAST-MODIFIED:20190404T144611Z
UID:2887-1555066800-1555070400@www.oficinadepromocionclm.com
SUMMARY:Presentación del Certamen de Piano de la Escuela de Música de Talavera de la Reina (Toledo)
DESCRIPTION:
URL:https://www.oficinadepromocionclm.com/evento/presentacion-certamen-de-piano-escuela-de-musica-de-talavera/
LOCATION:Madrid
END:VEVENT
BEGIN:VEVENT
DTSTART;TZID=Europe/Madrid:20190413T113000
DTEND;TZID=Europe/Madrid:20190413T143000
DTSTAMP:20260426T052943
CREATED:20190210T112338Z
LAST-MODIFIED:20190409T081625Z
UID:2643-1555155000-1555165800@www.oficinadepromocionclm.com
SUMMARY:Taller de naturaleza Barrancas del Burujón + Puzzle de madera
DESCRIPTION:
URL:https://www.oficinadepromocionclm.com/evento/taller-de-naturaleza-barrancas-del-burujon-puzzle-de-madera/
LOCATION:Madrid
END:VEVENT
BEGIN:VEVENT
DTSTART;TZID=Europe/Madrid:20190413T160000
DTEND;TZID=Europe/Madrid:20190413T183000
DTSTAMP:20260426T052943
CREATED:20190206T152908Z
LAST-MODIFIED:20190409T081546Z
UID:2585-1555171200-1555180200@www.oficinadepromocionclm.com
SUMMARY:Taller de naturaleza  Barrancas de Burujón + Puzzle de madera
DESCRIPTION:
URL:https://www.oficinadepromocionclm.com/evento/taller-de-naturaleza-barrancas-de-burujon-puzzle-de-madera/
LOCATION:Madrid
END:VEVENT
BEGIN:VEVENT
DTSTART;TZID=Europe/Madrid:20190414T113000
DTEND;TZID=Europe/Madrid:20190414T140000
DTSTAMP:20260426T052943
CREATED:20190313T163612Z
LAST-MODIFIED:20190321T155138Z
UID:2780-1555241400-1555250400@www.oficinadepromocionclm.com
SUMMARY:Taller de Pinturas Prehistóricas
DESCRIPTION:
URL:https://www.oficinadepromocionclm.com/evento/taller-de-pinturas-prehistoricas/
LOCATION:Madrid
END:VEVENT
BEGIN:VEVENT
DTSTART;TZID=Europe/Madrid:20190421T113000
DTEND;TZID=Europe/Madrid:20190421T143000
DTSTAMP:20260426T052943
CREATED:20190131T173210Z
LAST-MODIFIED:20190322T145551Z
UID:2564-1555846200-1555857000@www.oficinadepromocionclm.com
SUMMARY:Taller de artesanía de bordado en oro
DESCRIPTION:
URL:https://www.oficinadepromocionclm.com/evento/taller-de-artesania-de-bordado-en-oro/
LOCATION:Madrid
END:VEVENT
BEGIN:VEVENT
DTSTART;TZID=Europe/Madrid:20190421T160000
DTEND;TZID=Europe/Madrid:20190421T190000
DTSTAMP:20260426T052943
CREATED:20190206T154756Z
LAST-MODIFIED:20190322T145844Z
UID:2591-1555862400-1555873200@www.oficinadepromocionclm.com
SUMMARY:Taller de artesanía de bordado en oro
DESCRIPTION:
URL:https://www.oficinadepromocionclm.com/evento/taller-de-artesania-de-bordado-en-oro-2/
LOCATION:Madrid
END:VEVENT
BEGIN:VEVENT
DTSTART;TZID=Europe/Madrid:20190423T163000
DTEND;TZID=Europe/Madrid:20190423T173000
DTSTAMP:20260426T052943
CREATED:20190404T144938Z
LAST-MODIFIED:20190405T094643Z
UID:2900-1556037000-1556040600@www.oficinadepromocionclm.com
SUMMARY:Presentación de la Ruta de Don Quijote a la Asociación de Corresponsales de Prensa Extranjera
DESCRIPTION:
URL:https://www.oficinadepromocionclm.com/evento/presentacion-de-la-ruta-de-don-quijote-a-la-asociacion-de-corresponsales-de-prensa-extranjera/
LOCATION:Madrid
END:VEVENT
BEGIN:VEVENT
DTSTART;TZID=Europe/Madrid:20190426T180000
DTEND;TZID=Europe/Madrid:20190426T190000
DTSTAMP:20260426T052943
CREATED:20190313T180744Z
LAST-MODIFIED:20190315T150519Z
UID:2788-1556301600-1556305200@www.oficinadepromocionclm.com
SUMMARY:Cata de Chocolate y Aceite DO Montes de Toledo
DESCRIPTION:
URL:https://www.oficinadepromocionclm.com/evento/taller-de-cata-de-chocolate-y-aceite-do-montes-de-toledo/
LOCATION:Madrid
END:VEVENT
BEGIN:VEVENT
DTSTART;TZID=Europe/Madrid:20190427T130000
DTEND;TZID=Europe/Madrid:20190427T140000
DTSTAMP:20260426T052943
CREATED:20190405T092007Z
LAST-MODIFIED:20190409T093311Z
UID:2911-1556370000-1556373600@www.oficinadepromocionclm.com
SUMMARY:Cata de 10 vinos D.O La Mancha de Alcázar de San Juan (Ciudad Real)
DESCRIPTION:
URL:https://www.oficinadepromocionclm.com/evento/cata-de-10-vinos-d-o-la-mancha-de-alcazar-de-san-juan-ciudad-real/
LOCATION:Madrid
END:VEVENT
END:VCALENDAR