BEGIN:VCALENDAR
VERSION:2.0
PRODID:-//Oficina de promoción turística de Castilla-La Mancha en Madrid - ECPv6.13.2.1//NONSGML v1.0//EN
CALSCALE:GREGORIAN
METHOD:PUBLISH
X-WR-CALNAME:Oficina de promoción turística de Castilla-La Mancha en Madrid
X-ORIGINAL-URL:https://www.oficinadepromocionclm.com
X-WR-CALDESC:Eventos para Oficina de promoción turística de Castilla-La Mancha en Madrid
REFRESH-INTERVAL;VALUE=DURATION:PT1H
X-Robots-Tag:noindex
X-PUBLISHED-TTL:PT1H
BEGIN:VTIMEZONE
TZID:Europe/Madrid
BEGIN:DAYLIGHT
TZOFFSETFROM:+0100
TZOFFSETTO:+0200
TZNAME:CEST
DTSTART:20250330T010000
END:DAYLIGHT
BEGIN:STANDARD
TZOFFSETFROM:+0200
TZOFFSETTO:+0100
TZNAME:CET
DTSTART:20251026T010000
END:STANDARD
BEGIN:DAYLIGHT
TZOFFSETFROM:+0100
TZOFFSETTO:+0200
TZNAME:CEST
DTSTART:20260329T010000
END:DAYLIGHT
BEGIN:STANDARD
TZOFFSETFROM:+0200
TZOFFSETTO:+0100
TZNAME:CET
DTSTART:20261025T010000
END:STANDARD
END:VTIMEZONE
BEGIN:VEVENT
DTSTART;TZID=Europe/Madrid:20260421T120000
DTEND;TZID=Europe/Madrid:20260421T140000
DTSTAMP:20260422T130308
CREATED:20260409T103944Z
LAST-MODIFIED:20260415T093109Z
UID:20615-1776772800-1776780000@www.oficinadepromocionclm.com
SUMMARY:Presentación LXVIII Fiesta del Olivo Mora (Toledo)
DESCRIPTION:
URL:https://www.oficinadepromocionclm.com/evento/presentacion-lxviii-fiesta-del-olivo-mora-toledo/
LOCATION:Madrid
END:VEVENT
BEGIN:VEVENT
DTSTART;TZID=Europe/Madrid:20260416T110000
DTEND;TZID=Europe/Madrid:20260416T130000
DTSTAMP:20260422T130308
CREATED:20260306T153825Z
LAST-MODIFIED:20260408T114800Z
UID:20509-1776337200-1776344400@www.oficinadepromocionclm.com
SUMMARY:Presentación IV Festival Internacional de Títeres Chinchilla y pedanías (Albacete)
DESCRIPTION:
URL:https://www.oficinadepromocionclm.com/evento/presentacion-festival-internacional-de-titeres-y-centro-de-interpretacion-de-titeres-y-marionetas/
LOCATION:Oficina Promoción Turística de Castilla-La Mancha en Madrid\, Gran Vía 45\, Madrid\, Madrid\, 28013\, Spain
END:VEVENT
BEGIN:VEVENT
DTSTART;TZID=Europe/Madrid:20260410T170000
DTEND;TZID=Europe/Madrid:20260410T190000
DTSTAMP:20260422T130308
CREATED:20260305T115702Z
LAST-MODIFIED:20260404T163723Z
UID:20505-1775840400-1775847600@www.oficinadepromocionclm.com
SUMMARY:Presentación del libro " El horizonte desde el Tejado" por Carmen Manzaneque
DESCRIPTION:
URL:https://www.oficinadepromocionclm.com/evento/presentacion-del-libro-el-hombre-sobre-el-tejado-por-carmen-manzaneque/
LOCATION:Oficina Promoción Turística de Castilla-La Mancha en Madrid\, Gran Vía 45\, Madrid\, Madrid\, 28013\, Spain
END:VEVENT
BEGIN:VEVENT
DTSTART;TZID=Europe/Madrid:20260407T120000
DTEND;TZID=Europe/Madrid:20260407T133000
DTSTAMP:20260422T130308
CREATED:20260305T114708Z
LAST-MODIFIED:20260402T091741Z
UID:20502-1775563200-1775568600@www.oficinadepromocionclm.com
SUMMARY:Presentación Festival de Teatro Regional Francisco Nieva
DESCRIPTION:
URL:https://www.oficinadepromocionclm.com/evento/presentacion-festival-de-teatro-regional-francisco-nieva/
LOCATION:Oficina Promoción Turística de Castilla-La Mancha en Madrid\, Gran Vía 45\, Madrid\, Madrid\, 28013\, Spain
END:VEVENT
BEGIN:VEVENT
DTSTART;TZID=Europe/Madrid:20260405T080000
DTEND;TZID=Europe/Madrid:20260405T170000
DTSTAMP:20260422T130308
CREATED:20260405T153247Z
LAST-MODIFIED:20260405T153723Z
UID:20589-1775376000-1775408400@www.oficinadepromocionclm.com
SUMMARY:Encuentro literario: Presentación de la novela "Puerta Blanca: El secreto" Ángeles Cantero
DESCRIPTION:
URL:https://www.oficinadepromocionclm.com/evento/encuentro-literario-presentacion-de-la-novela-puerta-blanca-el-secreto-angeles-cantero/
LOCATION:Madrid
END:VEVENT
BEGIN:VEVENT
DTSTART;TZID=Europe/Madrid:20260331T113000
DTEND;TZID=Europe/Madrid:20260331T133000
DTSTAMP:20260422T130308
CREATED:20260303T115949Z
LAST-MODIFIED:20260326T092946Z
UID:20498-1774956600-1774963800@www.oficinadepromocionclm.com
SUMMARY:Presentación "Matsuri Toledo"
DESCRIPTION:el primer evento a gran escala que une manga\, anime\, videojuegos y ocio alternativo en la ciudad de Toledo
URL:https://www.oficinadepromocionclm.com/evento/presentacion-matsuri-toledo/
LOCATION:Madrid
END:VEVENT
BEGIN:VEVENT
DTSTART;TZID=Europe/Madrid:20260327T113000
DTEND;TZID=Europe/Madrid:20260327T130000
DTSTAMP:20260422T130308
CREATED:20260228T122407Z
LAST-MODIFIED:20260320T100414Z
UID:20495-1774611000-1774616400@www.oficinadepromocionclm.com
SUMMARY:Presentación «Campo de Montiel\, Adéntrate en la Leyenda»
DESCRIPTION:
URL:https://www.oficinadepromocionclm.com/evento/presentacion-campo-de-montiel-adentrate-en-la-leyenda/
LOCATION:Oficina Promoción Turística de Castilla-La Mancha en Madrid\, Gran Vía 45\, Madrid\, Madrid\, 28013\, Spain
END:VEVENT
BEGIN:VEVENT
DTSTART;TZID=Europe/Madrid:20260325T113000
DTEND;TZID=Europe/Madrid:20260325T133000
DTSTAMP:20260422T130308
CREATED:20260319T165538Z
LAST-MODIFIED:20260319T165538Z
UID:20560-1774438200-1774445400@www.oficinadepromocionclm.com
SUMMARY:Presentación Oficial El Vid Festival
DESCRIPTION:
URL:https://www.oficinadepromocionclm.com/evento/presentacion-oficial-el-vid-festival/
LOCATION:Oficina Promoción Turística de Castilla-La Mancha en Madrid\, Gran Vía 45\, Madrid\, Madrid\, 28013\, Spain
END:VEVENT
BEGIN:VEVENT
DTSTART;TZID=Europe/Madrid:20260324T113000
DTEND;TZID=Europe/Madrid:20260324T133000
DTSTAMP:20260422T130308
CREATED:20260305T105233Z
LAST-MODIFIED:20260312T101251Z
UID:20500-1774351800-1774359000@www.oficinadepromocionclm.com
SUMMARY:Presentación «Plan de Sostenibilidad Turística en Belmonte». Paraíso Medieval y KM0
DESCRIPTION:
URL:https://www.oficinadepromocionclm.com/evento/presentacion-plan-de-sostenibilidad-turistica-en-belmonte-paraiso-medieval-y-km0/
LOCATION:Oficina Promoción Turística de Castilla-La Mancha en Madrid\, Gran Vía 45\, Madrid\, Madrid\, 28013\, Spain
END:VEVENT
BEGIN:VEVENT
DTSTART;TZID=Europe/Madrid:20260319T110000
DTEND;TZID=Europe/Madrid:20260319T130000
DTSTAMP:20260422T130308
CREATED:20260219T151153Z
LAST-MODIFIED:20260312T102046Z
UID:20481-1773918000-1773925200@www.oficinadepromocionclm.com
SUMMARY:Taller y Presentación Rutas de Naturaleza Madridejos (Toledo)
DESCRIPTION:
URL:https://www.oficinadepromocionclm.com/evento/presentacion-rutas-de-naturaleza-madridejos-toledo/
LOCATION:Oficina de Turismo de Castilla-La Mach en Madrid\, C\Gran Vía 45\, Madrid\, España
END:VEVENT
BEGIN:VEVENT
DTSTART;TZID=Europe/Madrid:20260318T120000
DTEND;TZID=Europe/Madrid:20260318T183000
DTSTAMP:20260422T130308
CREATED:20260219T122524Z
LAST-MODIFIED:20260318T104239Z
UID:20469-1773835200-1773858600@www.oficinadepromocionclm.com
SUMMARY:Jornada de Enoturismo\, Lacteoturismo y Oleoturismo. Pago La Jaraba.
DESCRIPTION:Evento para profesionales
URL:https://www.oficinadepromocionclm.com/evento/jornada-de-enoturismo-lacteoturismo-y-oleoturismo/
LOCATION:Oficina Promoción Turística de Castilla-La Mancha en Madrid\, Gran Vía 45\, Madrid\, Madrid\, 28013\, Spain
END:VEVENT
BEGIN:VEVENT
DTSTART;TZID=Europe/Madrid:20260314T120000
DTEND;TZID=Europe/Madrid:20260314T133000
DTSTAMP:20260422T130308
CREATED:20260120T173700Z
LAST-MODIFIED:20260120T173700Z
UID:20394-1773489600-1773495000@www.oficinadepromocionclm.com
SUMMARY:Presentación libro: "Protabgonistas\, Albaceteños Imprescindibles". Juan Antonio González Ochoa
DESCRIPTION:
URL:https://www.oficinadepromocionclm.com/evento/presentacion-libro-protabgonistas-albacetenos-imprescindibles-juan-antonio-gonzalez-ochoa/
LOCATION:Oficina Promoción Turística de Castilla-La Mancha en Madrid\, Gran Vía 45\, Madrid\, Madrid\, 28013\, Spain
END:VEVENT
BEGIN:VEVENT
DTSTART;TZID=Europe/Madrid:20260311T113000
DTEND;TZID=Europe/Madrid:20260311T140000
DTSTAMP:20260422T130308
CREATED:20260211T094125Z
LAST-MODIFIED:20260214T112556Z
UID:20450-1773228600-1773237600@www.oficinadepromocionclm.com
SUMMARY:Presentación Proyecto de Declaración del Legado de Don Quijote y Sancho Panza como Patrimonio Cultural Inmaterial por la UNESCO
DESCRIPTION:
URL:https://www.oficinadepromocionclm.com/evento/declaracion-del-legado-de-don-quijote-y-sancho-panza-como-patrimonio-cultural-inmaterial-por-la-unesco/
LOCATION:Madrid
END:VEVENT
BEGIN:VEVENT
DTSTART;TZID=Europe/Madrid:20260307T123000
DTEND;TZID=Europe/Madrid:20260307T183000
DTSTAMP:20260422T130308
CREATED:20260203T110458Z
LAST-MODIFIED:20260210T131644Z
UID:20421-1772886600-1772908200@www.oficinadepromocionclm.com
SUMMARY:Cata Vino D.O La Mancha
DESCRIPTION:
URL:https://www.oficinadepromocionclm.com/evento/cata-vino-d-o-la-mancha-3/
LOCATION:Oficina Promoción Turística de Castilla-La Mancha en Madrid\, Gran Vía 45\, Madrid\, Madrid\, 28013\, Spain
ORGANIZER;CN="Oficina Turismo Castilla-La Mancha en Madrid":MAILTO:infoopclm@jccm.es
END:VEVENT
BEGIN:VEVENT
DTSTART;TZID=Europe/Madrid:20260304T113000
DTEND;TZID=Europe/Madrid:20260304T140000
DTSTAMP:20260422T130308
CREATED:20260227T115820Z
LAST-MODIFIED:20260227T120152Z
UID:20488-1772623800-1772632800@www.oficinadepromocionclm.com
SUMMARY:Presentación Crónicas del Rey Don Pedro- Torrijos (Toledo)
DESCRIPTION:
URL:https://www.oficinadepromocionclm.com/evento/presentacion-cronicas-del-rey-don-pedro/
LOCATION:Madrid
END:VEVENT
BEGIN:VEVENT
DTSTART;TZID=Europe/Madrid:20260226T180000
DTEND;TZID=Europe/Madrid:20260226T190000
DTSTAMP:20260422T130308
CREATED:20260121T170748Z
LAST-MODIFIED:20260203T101410Z
UID:20400-1772128800-1772132400@www.oficinadepromocionclm.com
SUMMARY:Presentación Hospederías Castilla-La Mancha
DESCRIPTION:
URL:https://www.oficinadepromocionclm.com/evento/presentacion-hospederias-castilla-la-mancha/
LOCATION:Oficina Promoción Turística de Castilla-La Mancha en Madrid\, Gran Vía 45\, Madrid\, Madrid\, 28013\, Spain
END:VEVENT
BEGIN:VEVENT
DTSTART;TZID=Europe/Madrid:20260225T110000
DTEND;TZID=Europe/Madrid:20260225T130000
DTSTAMP:20260422T130308
CREATED:20260219T123049Z
LAST-MODIFIED:20260224T091853Z
UID:20476-1772017200-1772024400@www.oficinadepromocionclm.com
SUMMARY:Presentación Feria Artes Escénicas de Castilla-La Mancha
DESCRIPTION:
URL:https://www.oficinadepromocionclm.com/evento/presentacion-festival-artes-escenicas-clm/
LOCATION:Oficina Promoción Turística de Castilla-La Mancha en Madrid\, Gran Vía 45\, Madrid\, Madrid\, 28013\, Spain
END:VEVENT
BEGIN:VEVENT
DTSTART;TZID=Europe/Madrid:20260224T110000
DTEND;TZID=Europe/Madrid:20260224T130000
DTSTAMP:20260422T130308
CREATED:20260121T170629Z
LAST-MODIFIED:20260214T112407Z
UID:20398-1771930800-1771938000@www.oficinadepromocionclm.com
SUMMARY:Presentación Feria Apícola de Pastrana y Cata de Miel
DESCRIPTION:
URL:https://www.oficinadepromocionclm.com/evento/presentacion-feria-apicola-de-pastrana-y-cata-comentada-de-miel/
LOCATION:Oficina Promoción Turística de Castilla-La Mancha en Madrid\, Gran Vía 45\, Madrid\, Madrid\, 28013\, Spain
END:VEVENT
BEGIN:VEVENT
DTSTART;TZID=Europe/Madrid:20260220T113000
DTEND;TZID=Europe/Madrid:20260220T133000
DTSTAMP:20260422T130308
CREATED:20260107T170339Z
LAST-MODIFIED:20260212T114526Z
UID:20373-1771587000-1771594200@www.oficinadepromocionclm.com
SUMMARY:Presentación Semana  Santa de Albacete
DESCRIPTION:
URL:https://www.oficinadepromocionclm.com/evento/presentacion-semana-santa-de-albacete/
LOCATION:Oficina de Turismo de Castilla-La Mach en Madrid\, C\Gran Vía 45\, Madrid\, España
END:VEVENT
BEGIN:VEVENT
DTSTART;TZID=Europe/Madrid:20260218T120000
DTEND;TZID=Europe/Madrid:20260218T133000
DTSTAMP:20260422T130308
CREATED:20260208T121105Z
LAST-MODIFIED:20260214T100244Z
UID:20434-1771416000-1771421400@www.oficinadepromocionclm.com
SUMMARY:Presentación Ruta de los Esponsales de Carlos V Talavera de la Reina
DESCRIPTION:
URL:https://www.oficinadepromocionclm.com/evento/presentacion-ruta-de-los-esponsales-de-carlos-v-talavera-de-la-reina/
LOCATION:Oficina Promoción Turística de Castilla-La Mancha en Madrid\, Gran Vía 45\, Madrid\, Madrid\, 28013\, Spain
END:VEVENT
BEGIN:VEVENT
DTSTART;TZID=Europe/Madrid:20260217T120000
DTEND;TZID=Europe/Madrid:20260217T133000
DTSTAMP:20260422T130308
CREATED:20260208T115237Z
LAST-MODIFIED:20260211T113156Z
UID:20432-1771329600-1771335000@www.oficinadepromocionclm.com
SUMMARY:Presentación 68 Edición SMR Semana Música Religiosa de Cuenca
DESCRIPTION:
URL:https://www.oficinadepromocionclm.com/evento/presentacion-semana-musica-religiosa-de-cuenca/
LOCATION:Oficina Promoción Turística de Castilla-La Mancha en Madrid\, Gran Vía 45\, Madrid\, Madrid\, 28013\, Spain
END:VEVENT
BEGIN:VEVENT
DTSTART;TZID=Europe/Madrid:20260213T120000
DTEND;TZID=Europe/Madrid:20260213T133000
DTSTAMP:20260422T130308
CREATED:20260107T165354Z
LAST-MODIFIED:20260127T160712Z
UID:20371-1770984000-1770989400@www.oficinadepromocionclm.com
SUMMARY:Presentación Semana Santa de Ocaña declarada Fiesta de Interés Turístico Nacional
DESCRIPTION:
URL:https://www.oficinadepromocionclm.com/evento/presentacion-semana-santa-de-ocanafiesta-de-interes-turistico-regional/
LOCATION:Oficina de Turismo de Castilla-La Mach en Madrid\, C\Gran Vía 45\, Madrid\, España
END:VEVENT
BEGIN:VEVENT
DTSTART;TZID=Europe/Madrid:20260207T120000
DTEND;TZID=Europe/Madrid:20260207T173000
DTSTAMP:20260422T130308
CREATED:20260113T110509Z
LAST-MODIFIED:20260124T104424Z
UID:20380-1770465600-1770485400@www.oficinadepromocionclm.com
SUMMARY:Cata Vino D.O La Mancha
DESCRIPTION:
URL:https://www.oficinadepromocionclm.com/evento/cata-vino-d-o-la-mancha-2/
LOCATION:Oficina Promoción Turística de Castilla-La Mancha en Madrid\, Gran Vía 45\, Madrid\, Madrid\, 28013\, Spain
END:VEVENT
BEGIN:VEVENT
DTSTART;TZID=Europe/Madrid:20260205T113000
DTEND;TZID=Europe/Madrid:20260205T133000
DTSTAMP:20260422T130308
CREATED:20260104T154833Z
LAST-MODIFIED:20260116T160203Z
UID:20363-1770291000-1770298200@www.oficinadepromocionclm.com
SUMMARY:Presentación IX Festival de Humor de Castilla-La Mancha GACHAS COMEDY
DESCRIPTION:
URL:https://www.oficinadepromocionclm.com/evento/presentacion-gachas-comedy/
LOCATION:Madrid
END:VEVENT
BEGIN:VEVENT
DTSTART;TZID=Europe/Madrid:20260131T120000
DTEND;TZID=Europe/Madrid:20260131T183000
DTSTAMP:20260422T130308
CREATED:20260104T154518Z
LAST-MODIFIED:20260127T160431Z
UID:20360-1769860800-1769884200@www.oficinadepromocionclm.com
SUMMARY:Cata Vinos D.O. Uclés
DESCRIPTION:
URL:https://www.oficinadepromocionclm.com/evento/cata-vinos-d-o-ucles/
LOCATION:Oficina de Turismo de Castilla-La Mancha en Madrid
END:VEVENT
BEGIN:VEVENT
DTSTART;TZID=Europe/Madrid:20260130T113000
DTEND;TZID=Europe/Madrid:20260130T133000
DTSTAMP:20260422T130308
CREATED:20260107T160441Z
LAST-MODIFIED:20260127T175849Z
UID:20368-1769772600-1769779800@www.oficinadepromocionclm.com
SUMMARY:Presentación  FICCUE (Festival Internacional de Cine de Comedia de Cuenca)
DESCRIPTION:
URL:https://www.oficinadepromocionclm.com/evento/presentacion-ficcue-festival-internacional-de-cine-de-comedia-de-cuenca/
LOCATION:Oficina de Turismo de Castilla-La Mach en Madrid\, C\Gran Vía 45\, Madrid\, España
END:VEVENT
BEGIN:VEVENT
DTSTART;TZID=Europe/Madrid:20260120T113000
DTEND;TZID=Europe/Madrid:20260120T130000
DTSTAMP:20260422T130308
CREATED:20260104T153710Z
LAST-MODIFIED:20260115T100722Z
UID:20355-1768908600-1768914000@www.oficinadepromocionclm.com
SUMMARY:Presentación Miércoles de Ceniza en Chinchilla de Montearagón.
DESCRIPTION:
URL:https://www.oficinadepromocionclm.com/evento/presentacion-miercoles-de-ceniza-en-chinchilla-de-montearagon/
LOCATION:Madrid
END:VEVENT
BEGIN:VEVENT
DTSTART;TZID=Europe/Madrid:20260115T113000
DTEND;TZID=Europe/Madrid:20260115T133000
DTSTAMP:20260422T130308
CREATED:20260104T153548Z
LAST-MODIFIED:20260107T103227Z
UID:20353-1768476600-1768483800@www.oficinadepromocionclm.com
SUMMARY:Presentación Fiesta de las Paces de Villarta de San Juan. Ciudad Real
DESCRIPTION:
URL:https://www.oficinadepromocionclm.com/evento/presentacion-fiesta-de-las-paces-de-villarta-de-san-juan-ciudad-real/
LOCATION:Madrid
END:VEVENT
BEGIN:VEVENT
DTSTART;TZID=Europe/Madrid:20260109T170000
DTEND;TZID=Europe/Madrid:20260109T183000
DTSTAMP:20260422T130308
CREATED:20260104T152533Z
LAST-MODIFIED:20260104T153404Z
UID:20350-1767978000-1767983400@www.oficinadepromocionclm.com
SUMMARY:Charla-presentación de la obra: “El Canto del Grajo” Ana I. Fernández Escribano
DESCRIPTION:
URL:https://www.oficinadepromocionclm.com/evento/charla-presentacion-de-la-obra-el-canto-del-grajo-ana-i-fernandez-escribano/
LOCATION:Oficina de Turismo de Castilla-La Mancha en Madrid
END:VEVENT
BEGIN:VEVENT
DTSTART;TZID=Europe/Madrid:20251227T120000
DTEND;TZID=Europe/Madrid:20251227T133000
DTSTAMP:20260422T130308
CREATED:20251122T102603Z
LAST-MODIFIED:20251122T103200Z
UID:20309-1766836800-1766842200@www.oficinadepromocionclm.com
SUMMARY:Presentación Libro La Sonrisa del Júcar
DESCRIPTION:
URL:https://www.oficinadepromocionclm.com/evento/cata-degustacion-d-o-la-mancha/
LOCATION:Oficina de Turismo de Castilla-La Mancha en Madrid
ORGANIZER;CN="Oficina Turismo Castilla-La Mancha en Madrid":MAILTO:infoopclm@jccm.es
END:VEVENT
END:VCALENDAR